BEGIN:VCALENDAR
VERSION:2.0
PRODID:-//time.now/holidays//NONSGML v1.0//EN
BEGIN:VEVENT
UID:97da3441-b41b-44b3-952d-ddb353a86b0c
DTSTAMP:20260420T081422Z
DTSTART;VALUE=DATE:20260115
SUMMARY:John Chilembwe Day (Malaui)
END:VEVENT
END:VCALENDAR