BEGIN:VCALENDAR
VERSION:2.0
PRODID:-//time.now/holidays//NONSGML v1.0//EN
BEGIN:VEVENT
UID:770cb520-b736-45ed-ad4f-8340e61ab2c0
DTSTAMP:20260420T050926Z
DTSTART;VALUE=DATE:20260329
SUMMARY:Martyrs' Day (Madagascar)
END:VEVENT
END:VCALENDAR