BEGIN:VCALENDAR
VERSION:2.0
PRODID:-//time.now/holidays//NONSGML v1.0//EN
BEGIN:VEVENT
UID:02d6dd64-e637-4fdb-aa8b-468a1fcb93d5
DTSTAMP:20260420T025636Z
DTSTART;VALUE=DATE:20260501
SUMMARY:Labor Day (Madagascar)
END:VEVENT
END:VCALENDAR