BEGIN:VCALENDAR
VERSION:2.0
PRODID:-//time.now/holidays//NONSGML v1.0//EN
BEGIN:VEVENT
UID:bfed20cc-ed09-49b9-8304-7ae40c360567
DTSTAMP:20260420T095829Z
DTSTART;VALUE=DATE:20261225
SUMMARY:Christmas Day (Madagascar)
END:VEVENT
END:VCALENDAR