BEGIN:VCALENDAR
VERSION:2.0
PRODID:-//time.now/holidays//NONSGML v1.0//EN
BEGIN:VEVENT
UID:4f0516e1-4adf-4101-b943-8975a82dd019
DTSTAMP:20260420T023433Z
DTSTART;VALUE=DATE:20260815
SUMMARY:Assumption Day (Madagascar)
END:VEVENT
END:VCALENDAR