BEGIN:VCALENDAR
VERSION:2.0
PRODID:-//time.now/holidays//NONSGML v1.0//EN
BEGIN:VEVENT
UID:0ac16200-e487-4143-9f51-90c0dc50ddae
DTSTAMP:20260422T192341Z
DTSTART;VALUE=DATE:20260218
SUMMARY:The second day of Chinese New Year (Macao)
END:VEVENT
END:VCALENDAR