BEGIN:VCALENDAR
VERSION:2.0
PRODID:-//time.now/holidays//NONSGML v1.0//EN
BEGIN:VEVENT
UID:6edaa1ff-c550-44c3-b779-ddc211b9705f
DTSTAMP:20260420T092014Z
DTSTART;VALUE=DATE:20260524
SUMMARY:The Buddha's Birthday (Macao)
END:VEVENT
END:VCALENDAR