BEGIN:VCALENDAR
VERSION:2.0
PRODID:-//time.now/holidays//NONSGML v1.0//EN
BEGIN:VEVENT
UID:d85385c5-d437-4875-9577-d3af913f694b
DTSTAMP:20260420T051101Z
DTSTART;VALUE=DATE:20261220
SUMMARY:Macao S.A.R. Establishment Day (Macao)
END:VEVENT
END:VCALENDAR