BEGIN:VCALENDAR
VERSION:2.0
PRODID:-//time.now/holidays//NONSGML v1.0//EN
BEGIN:VEVENT
UID:61b063b3-bf53-4e41-a1a3-7578d3e48d70
DTSTAMP:20260422T091609Z
DTSTART;VALUE=DATE:20260619
SUMMARY:Dragon Boat Festival (Macao)
END:VEVENT
END:VCALENDAR