BEGIN:VCALENDAR
VERSION:2.0
PRODID:-//time.now/holidays//NONSGML v1.0//EN
BEGIN:VEVENT
UID:dd6a0104-59f7-4087-aee8-02242a125ed0
DTSTAMP:20260420T113211Z
DTSTART;VALUE=DATE:20260525
SUMMARY:Whit Monday (Luxemburgo)
END:VEVENT
END:VCALENDAR