BEGIN:VCALENDAR
VERSION:2.0
PRODID:-//time.now/holidays//NONSGML v1.0//EN
BEGIN:VEVENT
UID:faec79b3-f23c-48d0-ae2e-f6582bc9e8f1
DTSTAMP:20260420T203625Z
DTSTART;VALUE=DATE:20261226
SUMMARY:Second Day of Christmas (Lituania)
END:VEVENT
END:VCALENDAR