BEGIN:VCALENDAR
VERSION:2.0
PRODID:-//time.now/holidays//NONSGML v1.0//EN
BEGIN:VEVENT
UID:f04c377b-db14-4646-889a-36d1cd258eb5
DTSTAMP:20260422T090124Z
DTSTART;VALUE=DATE:20260624
SUMMARY:Day of Dew and Saint John (Lituania)
END:VEVENT
END:VCALENDAR