BEGIN:VCALENDAR
VERSION:2.0
PRODID:-//time.now/holidays//NONSGML v1.0//EN
BEGIN:VEVENT
UID:8ff2527f-1533-40c6-8b0d-5c60a711d5d5
DTSTAMP:20260420T104733Z
DTSTART;VALUE=DATE:20260524
SUMMARY:Whit Sunday (Liechtenstein)
END:VEVENT
END:VCALENDAR