BEGIN:VCALENDAR
VERSION:2.0
PRODID:-//time.now/holidays//NONSGML v1.0//EN
BEGIN:VEVENT
UID:6407bb5f-96f3-4b7a-9950-d741a99164dd
DTSTAMP:20260420T082610Z
DTSTART;VALUE=DATE:20261226
SUMMARY:Saint Stephen's Day (Liechtenstein)
END:VEVENT
END:VCALENDAR