BEGIN:VCALENDAR
VERSION:2.0
PRODID:-//time.now/holidays//NONSGML v1.0//EN
BEGIN:VEVENT
UID:8ebaf551-3e75-4d60-9e9a-7e26f43b68f0
DTSTAMP:20260420T155944Z
DTSTART;VALUE=DATE:20260319
SUMMARY:Saint Joseph's Day (Liechtenstein)
END:VEVENT
END:VCALENDAR