BEGIN:VCALENDAR
VERSION:2.0
PRODID:-//time.now/holidays//NONSGML v1.0//EN
BEGIN:VEVENT
UID:95152877-e580-4c68-a5d7-35210dbeb374
DTSTAMP:20260422T091726Z
DTSTART;VALUE=DATE:20260908
SUMMARY:Nativity of Mary (Liechtenstein)
END:VEVENT
END:VCALENDAR