BEGIN:VCALENDAR
VERSION:2.0
PRODID:-//time.now/holidays//NONSGML v1.0//EN
BEGIN:VEVENT
UID:a5d5059f-1cee-4f15-978f-c60f2fb9c2bf
DTSTAMP:20260419T211133Z
DTSTART;VALUE=DATE:20260106
SUMMARY:Epiphany (Liechtenstein)
END:VEVENT
END:VCALENDAR