BEGIN:VCALENDAR
VERSION:2.0
PRODID:-//time.now/holidays//NONSGML v1.0//EN
BEGIN:VEVENT
UID:96125ad5-a851-4f4d-8d4b-4c9fac09d39f
DTSTAMP:20260420T042844Z
DTSTART;VALUE=DATE:20260514
SUMMARY:Ascension Day (Lesoto)
END:VEVENT
END:VCALENDAR