BEGIN:VCALENDAR
VERSION:2.0
PRODID:-//time.now/holidays//NONSGML v1.0//EN
BEGIN:VEVENT
UID:279df220-d2b5-4c51-ad54-897af0d40386
DTSTAMP:20260422T092209Z
DTSTART;VALUE=DATE:20280525
SUMMARY:Africa/Heroes Day; Ascension Day (Lesoto)
END:VEVENT
END:VCALENDAR