BEGIN:VCALENDAR
VERSION:2.0
PRODID:-//time.now/holidays//NONSGML v1.0//EN
BEGIN:VEVENT
UID:d1e8a2d8-017b-4a1d-9821-a9b9f55135e2
DTSTAMP:20260421T005445Z
DTSTART;VALUE=DATE:20230710
SUMMARY:General Latvian Song and Dance Festival closing day (Letonia)
END:VEVENT
END:VCALENDAR