BEGIN:VCALENDAR
VERSION:2.0
PRODID:-//time.now/holidays//NONSGML v1.0//EN
BEGIN:VEVENT
UID:564a08a5-95b1-4db4-8bfe-eba624f321c6
DTSTAMP:20260420T175009Z
DTSTART;VALUE=DATE:20261224
SUMMARY:Christmas Eve (Letonia)
END:VEVENT
END:VCALENDAR