BEGIN:VCALENDAR
VERSION:2.0
PRODID:-//time.now/holidays//NONSGML v1.0//EN
BEGIN:VEVENT
UID:b72b1139-b264-4258-a7d7-1252ea8b19db
DTSTAMP:20260422T134302Z
DTSTART;VALUE=DATE:20280103
SUMMARY:New Year's Day (in lieu) (Laos)
END:VEVENT
END:VCALENDAR