BEGIN:VCALENDAR
VERSION:2.0
PRODID:-//time.now/holidays//NONSGML v1.0//EN
BEGIN:VEVENT
UID:222fdcb7-3fd2-4541-bb85-3554cc808de3
DTSTAMP:20260424T162833Z
DTSTART;VALUE=DATE:20281204
SUMMARY:Lao National Day (in lieu) (Laos)
END:VEVENT
END:VCALENDAR