BEGIN:VCALENDAR
VERSION:2.0
PRODID:-//time.now/holidays//NONSGML v1.0//EN
BEGIN:VEVENT
UID:d4676daa-939f-49bb-bfc0-f5f533bd932c
DTSTAMP:20260420T212056Z
DTSTART;VALUE=DATE:20260501
SUMMARY:International Workers' Day (Kirguistán)
END:VEVENT
END:VCALENDAR