BEGIN:VCALENDAR
VERSION:2.0
PRODID:-//time.now/holidays//NONSGML v1.0//EN
BEGIN:VEVENT
UID:0efea4d5-0aeb-4a21-997a-a94413c5a542
DTSTAMP:20260422T110841Z
DTSTART;VALUE=DATE:20260407
SUMMARY:Day of the People's April Revolution (Kirguistán)
END:VEVENT
END:VCALENDAR