BEGIN:VCALENDAR
VERSION:2.0
PRODID:-//time.now/holidays//NONSGML v1.0//EN
BEGIN:VEVENT
UID:c4f29146-5734-4199-8945-05161ffd4dff
DTSTAMP:20260422T193233Z
DTSTART;VALUE=DATE:20260107
SUMMARY:Christmas Day (Kirguistán)
END:VEVENT
END:VCALENDAR