BEGIN:VCALENDAR
VERSION:2.0
PRODID:-//time.now/holidays//NONSGML v1.0//EN
BEGIN:VEVENT
UID:92f089da-c575-41ac-8dba-396e98a6d789
DTSTAMP:20260420T062143Z
DTSTART;VALUE=DATE:20260101
SUMMARY:New Year's Day (Kuwait)
END:VEVENT
END:VCALENDAR