BEGIN:VCALENDAR
VERSION:2.0
PRODID:-//time.now/holidays//NONSGML v1.0//EN
BEGIN:VEVENT
UID:d499c889-df4d-40b4-88c3-cd4e044a7619
DTSTAMP:20260420T165418Z
DTSTART;VALUE=DATE:20260116
SUMMARY:Isra' and Mi'raj (estimated) (Kuwait)
END:VEVENT
END:VCALENDAR