BEGIN:VCALENDAR
VERSION:2.0
PRODID:-//time.now/holidays//NONSGML v1.0//EN
BEGIN:VEVENT
UID:4571e9e1-cff8-469b-af44-b387fe7b2bf3
DTSTAMP:20260422T090129Z
DTSTART;VALUE=DATE:20280226
SUMMARY:Eid al-Fitr (estimated); Liberation Day (Kuwait)
END:VEVENT
END:VCALENDAR