BEGIN:VCALENDAR
VERSION:2.0
PRODID:-//time.now/holidays//NONSGML v1.0//EN
BEGIN:VEVENT
UID:5f408c04-5be7-4623-87fe-7a980a22366b
DTSTAMP:20260420T202026Z
DTSTART;VALUE=DATE:20260528
SUMMARY:Eid al-Adha Holiday (estimated) (Kuwait)
END:VEVENT
END:VCALENDAR