BEGIN:VCALENDAR
VERSION:2.0
PRODID:-//time.now/holidays//NONSGML v1.0//EN
BEGIN:VEVENT
UID:70526eff-82db-4946-85c3-018fd9c29038
DTSTAMP:20260420T061931Z
DTSTART;VALUE=DATE:20260526
SUMMARY:Arafat Day (estimated) (Kuwait)
END:VEVENT
END:VCALENDAR