BEGIN:VCALENDAR
VERSION:2.0
PRODID:-//time.now/holidays//NONSGML v1.0//EN
BEGIN:VEVENT
UID:67dd26b9-71de-4f7a-9876-aaf397b26cc3
DTSTAMP:20260420T071043Z
DTSTART;VALUE=DATE:20261020
SUMMARY:Mashujaa Day (Kenia)
END:VEVENT
END:VCALENDAR