BEGIN:VCALENDAR
VERSION:2.0
PRODID:-//time.now/holidays//NONSGML v1.0//EN
BEGIN:VEVENT
UID:689ffdc3-2a43-4b1c-ac99-63eee3515d82
DTSTAMP:20260421T142355Z
DTSTART;VALUE=DATE:20301021
SUMMARY:Mashujaa Day (observed) (Kenia)
END:VEVENT
END:VCALENDAR