BEGIN:VCALENDAR
VERSION:2.0
PRODID:-//time.now/holidays//NONSGML v1.0//EN
BEGIN:VEVENT
UID:428efed9-d579-4876-8da5-5e299d6a52d1
DTSTAMP:20260420T080125Z
DTSTART;VALUE=DATE:20260601
SUMMARY:Madaraka Day (Kenia)
END:VEVENT
END:VCALENDAR