BEGIN:VCALENDAR
VERSION:2.0
PRODID:-//time.now/holidays//NONSGML v1.0//EN
BEGIN:VEVENT
UID:82cecfcc-ba40-4c0a-8184-9807d603cdcb
DTSTAMP:20260420T054635Z
DTSTART;VALUE=DATE:20261212
SUMMARY:Jamhuri Day (Kenia)
END:VEVENT
END:VCALENDAR