BEGIN:VCALENDAR
VERSION:2.0
PRODID:-//time.now/holidays//NONSGML v1.0//EN
BEGIN:VEVENT
UID:fde84e95-05a6-44e1-833c-b20f3e8cd7ea
DTSTAMP:20260420T151733Z
DTSTART;VALUE=DATE:20240410
SUMMARY:Eid-al-Fitr (Kenia)
END:VEVENT
END:VCALENDAR