BEGIN:VCALENDAR
VERSION:2.0
PRODID:-//time.now/holidays//NONSGML v1.0//EN
BEGIN:VEVENT
UID:20fa0f52-1697-4434-bb6a-f8bb40a648a5
DTSTAMP:20260420T094508Z
DTSTART;VALUE=DATE:20271227
SUMMARY:Boxing Day (observed) (Kenia)
END:VEVENT
END:VCALENDAR