BEGIN:VCALENDAR
VERSION:2.0
PRODID:-//time.now/holidays//NONSGML v1.0//EN
BEGIN:VEVENT
UID:cc1bac3e-9166-438b-9bde-f5a9c41fe666
DTSTAMP:20260420T183224Z
DTSTART;VALUE=DATE:20260511
SUMMARY:Victory Day (observed) (Kazajistán)
END:VEVENT
END:VCALENDAR