BEGIN:VCALENDAR
VERSION:2.0
PRODID:-//time.now/holidays//NONSGML v1.0//EN
BEGIN:VEVENT
UID:5b75813c-a5e6-49c4-b4fe-ba0bf7f2e536
DTSTAMP:20260420T203215Z
DTSTART;VALUE=DATE:20260322
SUMMARY:Nowruz Holiday (Kazajistán)
END:VEVENT
END:VCALENDAR