BEGIN:VCALENDAR
VERSION:2.0
PRODID:-//time.now/holidays//NONSGML v1.0//EN
BEGIN:VEVENT
UID:1b266cbb-5927-41f0-bda8-65e6a31fecb1
DTSTAMP:20260420T095558Z
DTSTART;VALUE=DATE:20261216
SUMMARY:Independence Day (Kazajistán)
END:VEVENT
END:VCALENDAR