BEGIN:VCALENDAR
VERSION:2.0
PRODID:-//time.now/holidays//NONSGML v1.0//EN
BEGIN:VEVENT
UID:25e6772e-bc14-49d4-9c50-ec94abd87ce8
DTSTAMP:20260420T164010Z
DTSTART;VALUE=DATE:20250606
SUMMARY:Eid al-Adha (Kazajistán)
END:VEVENT
END:VCALENDAR