BEGIN:VCALENDAR
VERSION:2.0
PRODID:-//time.now/holidays//NONSGML v1.0//EN
BEGIN:VEVENT
UID:6f627533-da8e-4df4-82e2-ddcc7a68d073
DTSTAMP:20260422T152546Z
DTSTART;VALUE=DATE:20260507
SUMMARY:Defender of the Fatherland Day (Kazajistán)
END:VEVENT
END:VCALENDAR