BEGIN:VCALENDAR
VERSION:2.0
PRODID:-//time.now/holidays//NONSGML v1.0//EN
BEGIN:VEVENT
UID:c2d3c45c-a009-4b2c-abb6-2acc8df6776b
DTSTAMP:20260420T215138Z
DTSTART;VALUE=DATE:20250103
SUMMARY:Day off (substituted from 01/05/2025) (Kazajistán)
END:VEVENT
END:VCALENDAR