BEGIN:VCALENDAR
VERSION:2.0
PRODID:-//time.now/holidays//NONSGML v1.0//EN
BEGIN:VEVENT
UID:45a6927a-0a76-4c54-bb31-c0f824b97e3e
DTSTAMP:20260420T080443Z
DTSTART;VALUE=DATE:20260831
SUMMARY:Constitution Day (observed) (Kazajistán)
END:VEVENT
END:VCALENDAR