BEGIN:VCALENDAR
VERSION:2.0
PRODID:-//time.now/holidays//NONSGML v1.0//EN
BEGIN:VEVENT
UID:38083631-5034-43f2-ad08-4418092e0ccd
DTSTAMP:20260420T204531Z
DTSTART;VALUE=DATE:20300708
SUMMARY:Capital Day (observed) (Kazajistán)
END:VEVENT
END:VCALENDAR