BEGIN:VCALENDAR
VERSION:2.0
PRODID:-//time.now/holidays//NONSGML v1.0//EN
BEGIN:VEVENT
UID:74074526-9a60-42bf-9f53-ebac44fa6ad8
DTSTAMP:20260420T182823Z
DTSTART;VALUE=DATE:20260825
SUMMARY:Prophet's Birthday (estimated) (Jordania)
END:VEVENT
END:VCALENDAR