BEGIN:VCALENDAR
VERSION:2.0
PRODID:-//time.now/holidays//NONSGML v1.0//EN
BEGIN:VEVENT
UID:e85e53b2-f888-4f56-b488-e4c85c271ab1
DTSTAMP:20260422T085901Z
DTSTART;VALUE=DATE:20260321
SUMMARY:Eid al-Fitr Holiday (estimated) (Jordania)
END:VEVENT
END:VCALENDAR