BEGIN:VCALENDAR
VERSION:2.0
PRODID:-//time.now/holidays//NONSGML v1.0//EN
BEGIN:VEVENT
UID:19c9406d-c3dc-4883-a7cb-7be5f701d1ef
DTSTAMP:20260419T235924Z
DTSTART;VALUE=DATE:20260403
SUMMARY:Good Friday (Jersey)
END:VEVENT
END:VCALENDAR