BEGIN:VCALENDAR
VERSION:2.0
PRODID:-//time.now/holidays//NONSGML v1.0//EN
BEGIN:VEVENT
UID:7fe383d6-479c-4568-a77f-968031893aec
DTSTAMP:20260420T194634Z
DTSTART;VALUE=DATE:20271227
SUMMARY:Christmas Day (substitute day) (Jersey)
END:VEVENT
END:VCALENDAR