BEGIN:VCALENDAR
VERSION:2.0
PRODID:-//time.now/holidays//NONSGML v1.0//EN
BEGIN:VEVENT
UID:dfc2f06e-634a-4fec-8621-82829f0d2c72
DTSTAMP:20260420T215135Z
DTSTART;VALUE=DATE:20260320
SUMMARY:Vernal Equinox Day (Japón)
END:VEVENT
END:VCALENDAR